BEGIN:VCALENDAR
VERSION:2.0
PRODID:-//Tukios.com/
BEGIN:VEVENT
UID:dec739e3-0b38-44be-9a0d-3f51f8a33533@www.wolfefuneralhomes.com
DTSTAMP:20260424T130602Z
DTSTART:20260501T150000Z
DTEND:20260501T160000Z
SUMMARY:Memorial Service
DESCRIPTION:
URL:https://www.wolfefuneralhomes.com/obituaries/buford-davis
LOCATION: 19698 S Greeno Rd  Fairhope AL 36532
GEO:30.5123905;-87.8850827
END:VEVENT
END:VCALENDAR