BEGIN:VCALENDAR
VERSION:2.0
PRODID:-//Tukios.com/
BEGIN:VEVENT
UID:96e441bc-6534-4914-8b9c-af7dce1ed970@www.wolfefuneralhomes.com
DTSTAMP:20260423T190449Z
DTSTART:20260501T140000Z
DTEND:20260501T150000Z
SUMMARY:Visitation
DESCRIPTION:
URL:https://www.wolfefuneralhomes.com/obituaries/buford-davis
LOCATION: 19698 S Greeno Rd  Fairhope AL 36532
GEO:30.5123905;-87.8850827
END:VEVENT
END:VCALENDAR