BEGIN:VCALENDAR
VERSION:2.0
PRODID:-//Tukios.com/
BEGIN:VEVENT
UID:10b97486-14f7-4525-8cf6-24d4100473e9@www.wolfefuneralhomes.com
DTSTAMP:20260424T231154Z
DTSTART:20260427T190000Z
DTEND:20260427T200000Z
SUMMARY:Memorial Service
DESCRIPTION:
URL:https://www.wolfefuneralhomes.com/obituaries/claire-sadler
LOCATION:Fairhope Christian Church 349 Fairwood Boulevard  Fairhope AL 
	36532
GEO:30.5298824;-87.8984231
END:VEVENT
END:VCALENDAR