BEGIN:VCALENDAR
VERSION:2.0
PRODID:-//Tukios.com/
BEGIN:VEVENT
UID:7b668a38-b71e-44ae-bddf-a017439ce9f7@www.wolfefuneralhomes.com
DTSTAMP:20260422T032028Z
DTSTART:20260424T180000Z
DTEND:20260424T190000Z
SUMMARY:Celebration of Life
DESCRIPTION:
URL:https://www.wolfefuneralhomes.com/obituaries/david-kennedy
LOCATION:St. James Episcopal Church 860 North Section Street  Fairhope AL 
	36532
GEO:30.5444875;-87.8957449
END:VEVENT
END:VCALENDAR