BEGIN:VCALENDAR
VERSION:2.0
PRODID:-//Tukios.com/
BEGIN:VEVENT
UID:b0da7a4f-b07e-466f-973b-d8d1aed8d779@www.wolfefuneralhomes.com
DTSTAMP:20260419T233008Z
DTSTART:20260424T150000Z
DTEND:20260424T160000Z
SUMMARY:Mass
DESCRIPTION:
URL:https://www.wolfefuneralhomes.com/obituaries/john-badger
LOCATION:St. Margaret of Scotland Catholic Church 601 West Laurel Avenue  
	Foley AL 36535
GEO:30.4060266;-87.6954349
END:VEVENT
END:VCALENDAR