BEGIN:VCALENDAR
VERSION:2.0
PRODID:-//Tukios.com/
BEGIN:VEVENT
UID:a490dd46-952f-466e-baf0-81807c461eaf@www.wolfefuneralhomes.com
DTSTAMP:20260420T211526Z
DTSTART:20260422T160000Z
DTEND:20260422T164500Z
SUMMARY:Burial
DESCRIPTION:
URL:https://www.wolfefuneralhomes.com/obituaries/john-sibley
LOCATION: 19250 S Greeno Rd  Fairhope AL 36532
GEO:30.5046992;-87.8841242
END:VEVENT
END:VCALENDAR