BEGIN:VCALENDAR
VERSION:2.0
PRODID:-//Tukios.com/
BEGIN:VEVENT
UID:f9e31968-1476-4b9c-afa5-2e5bfd4e0a1e@www.wolfefuneralhomes.com
DTSTAMP:20260420T224431Z
DTSTART:20260423T150000Z
DTEND:20260423T160000Z
SUMMARY:Visitation
DESCRIPTION:
URL:https://www.wolfefuneralhomes.com/obituaries/karen-huck-leutner
LOCATION: 2551 S McKenzie St  Foley AL 36535
GEO:30.3778034;-87.6822764
END:VEVENT
END:VCALENDAR