BEGIN:VCALENDAR
VERSION:2.0
PRODID:-//Tukios.com/
BEGIN:VEVENT
UID:a8546d95-33c8-46f1-bd02-1b981c9b1421@www.wolfefuneralhomes.com
DTSTAMP:20260420T224201Z
DTSTART:20260423T160000Z
DTEND:20260423T170000Z
SUMMARY:Funeral Service
DESCRIPTION:
URL:https://www.wolfefuneralhomes.com/obituaries/karen-huck-leutner
LOCATION: 2551 S McKenzie St  Foley AL 36535
GEO:30.3778034;-87.6822764
END:VEVENT
END:VCALENDAR