BEGIN:VCALENDAR
VERSION:2.0
PRODID:-//Tukios.com/
BEGIN:VEVENT
UID:f3cebf26-e7d7-4e96-b3cf-1a797847f209@www.wolfefuneralhomes.com
DTSTAMP:20260420T224054Z
DTSTART:20260423T173000Z
DTEND:20260423T183000Z
SUMMARY:Burial
DESCRIPTION:Following service
URL:https://www.wolfefuneralhomes.com/obituaries/karen-huck-leutner
LOCATION: 17100 County Road 73  Summerdale AL 36580
GEO:30.473299;-87.6827095
END:VEVENT
END:VCALENDAR