BEGIN:VCALENDAR
VERSION:2.0
PRODID:-//Tukios.com/
BEGIN:VEVENT
UID:7a291077-f578-408a-ad50-a79dd0ac1564@www.wolfefuneralhomes.com
DTSTAMP:20260419T211048Z
DTSTART:20260509T160000Z
DTEND:20260509T170000Z
SUMMARY:Funeral Service
DESCRIPTION:
URL:https://www.wolfefuneralhomes.com/obituaries/margie-beasley
LOCATION:Pleasant Grove Baptist Church 385 Louisiana 126  Jonesville LA 
	71343
GEO:31.6693457;-91.8459047
END:VEVENT
END:VCALENDAR