BEGIN:VCALENDAR
VERSION:2.0
PRODID:-//Tukios.com/
BEGIN:VEVENT
UID:e7e198f8-1d18-43c9-a75c-0c59c6bfc220@www.wolfefuneralhomes.com
DTSTAMP:20260419T211001Z
DTSTART:20260509T150000Z
DTEND:20260509T160000Z
SUMMARY:Visitation
DESCRIPTION:
URL:https://www.wolfefuneralhomes.com/obituaries/margie-beasley
LOCATION:Pleasant Grove Baptist Church 385 Louisiana 126  Jonesville LA 
	71343
GEO:31.6693457;-91.8459047
END:VEVENT
END:VCALENDAR