BEGIN:VCALENDAR
VERSION:2.0
PRODID:-//Tukios.com/
BEGIN:VEVENT
UID:9d49f85c-cc3c-4e0e-a569-3d91ca857062@www.wolfefuneralhomes.com
DTSTAMP:20260421T180318Z
DTSTART:20260427T160000Z
DTEND:20260427T170000Z
SUMMARY:Funeral Service
DESCRIPTION:
URL:https://www.wolfefuneralhomes.com/obituaries/thomas-ewing
LOCATION:Oyster Bay Baptist Church 4280 Plash Road  Gulf Shores AL 36542
GEO:30.286555;-87.7414809
END:VEVENT
END:VCALENDAR