BEGIN:VCALENDAR
VERSION:2.0
PRODID:-//Tukios.com/
BEGIN:VEVENT
UID:221c40c4-0797-4297-b9c0-385924371742@www.wolfefuneralhomes.com
DTSTAMP:20260421T180245Z
DTSTART:20260427T163000Z
DTEND:20260427T173000Z
SUMMARY:Inurnment
DESCRIPTION:
URL:https://www.wolfefuneralhomes.com/obituaries/thomas-ewing
LOCATION:Shell Banks Cemetery 1955 Gasque Lane  Gulf Shores AL 36542
GEO:30.2529392;-87.8160234
END:VEVENT
END:VCALENDAR